BEGIN:VCALENDAR
VERSION:2.0
PRODID:-//www.rmdc.net//NONSGML kigkonsult.se iCalcreator 2.30.10//
CALSCALE:GREGORIAN
METHOD:PUBLISH
UID:3da5581d-91c5-44f4-b52b-0fa80e7b3e37
X-WR-CALDESC:
X-WR-RELCALID:7c644def9b40676d1105195114c14c4e
X-WR-TIMEZONE:America/Denver
BEGIN:VTIMEZONE
TZID:America/Denver
BEGIN:STANDARD
TZNAME:MST
DTSTART:20171105T020000
TZOFFSETFROM:-0600
TZOFFSETTO:-0700
RDATE:20181104T020000
END:STANDARD
BEGIN:DAYLIGHT
TZNAME:MDT
DTSTART:20170312T020000
TZOFFSETFROM:-0700
TZOFFSETTO:-0600
RDATE:20180311T020000
RDATE:20190310T020000
END:DAYLIGHT
END:VTIMEZONE
BEGIN:VEVENT
UID:b7be3e1e-6c26-469a-a6c2-71bcf127fc99
DTSTAMP:20260425T183700Z
DESCRIPTION:
DTSTART;TZID=America/Denver:20180108T100000
DTEND;TZID=America/Denver:20180108T110000
LOCATION:Neighborhood Center Card Room
SUMMARY:Self-Directed Exercise Class
END:VEVENT
END:VCALENDAR
