BEGIN:VCALENDAR
VERSION:2.0
PRODID:-//www.rmdc.net//NONSGML kigkonsult.se iCalcreator 2.30.10//
CALSCALE:GREGORIAN
METHOD:PUBLISH
UID:7d2508ec-cb2f-445e-b6c0-9af75c19d5e2
X-WR-CALDESC:
X-WR-RELCALID:7abd0673345149b0aefb85dba177511d
X-WR-TIMEZONE:America/Denver
BEGIN:VTIMEZONE
TZID:America/Denver
BEGIN:STANDARD
TZNAME:MST
DTSTART:20171105T020000
TZOFFSETFROM:-0600
TZOFFSETTO:-0700
RDATE:20181104T020000
END:STANDARD
BEGIN:DAYLIGHT
TZNAME:MDT
DTSTART:20170312T020000
TZOFFSETFROM:-0700
TZOFFSETTO:-0600
RDATE:20180311T020000
RDATE:20190310T020000
END:DAYLIGHT
END:VTIMEZONE
BEGIN:VEVENT
UID:e578f2e5-70b4-4fe1-a1f4-e2ff7942b950
DTSTAMP:20260425T184525Z
DESCRIPTION:
DTSTART;TZID=America/Denver:20180109T130000
DTEND;TZID=America/Denver:20180109T150000
LOCATION:Neighborhood Center Card Room & Dance Floor
SUMMARY:Cards: Pinochle & Bridge
END:VEVENT
END:VCALENDAR
