BEGIN:VCALENDAR
VERSION:2.0
PRODID:-//www.rmdc.net//NONSGML kigkonsult.se iCalcreator 2.30.10//
CALSCALE:GREGORIAN
METHOD:PUBLISH
UID:5ba2ce2d-4f9f-4614-a8d3-5c9c50820f77
X-WR-CALDESC:
X-WR-RELCALID:3cf279ddaf16e22b728e910319c34a3b
X-WR-TIMEZONE:America/Denver
BEGIN:VTIMEZONE
TZID:America/Denver
BEGIN:STANDARD
TZNAME:MST
DTSTART:20171105T020000
TZOFFSETFROM:-0600
TZOFFSETTO:-0700
RDATE:20181104T020000
END:STANDARD
BEGIN:DAYLIGHT
TZNAME:MDT
DTSTART:20170312T020000
TZOFFSETFROM:-0700
TZOFFSETTO:-0600
RDATE:20180311T020000
RDATE:20190310T020000
END:DAYLIGHT
END:VTIMEZONE
BEGIN:VEVENT
UID:d3981aa1-d191-4cc8-92bb-3fc489696948
DTSTAMP:20260425T183726Z
DESCRIPTION:
DTSTART;TZID=America/Denver:20180117T130000
DTEND;TZID=America/Denver:20180117T150000
LOCATION:Neighborhood Center
SUMMARY:BINGO
END:VEVENT
END:VCALENDAR
