BEGIN:VCALENDAR
VERSION:2.0
PRODID:-//www.rmdc.net//NONSGML kigkonsult.se iCalcreator 2.30.10//
CALSCALE:GREGORIAN
METHOD:PUBLISH
UID:b3c5e655-7639-45c5-a474-796ab05d0a62
X-WR-CALDESC:
X-WR-RELCALID:ef47d1c415a4026b81e93833e5667a9f
X-WR-TIMEZONE:America/Denver
BEGIN:VTIMEZONE
TZID:America/Denver
BEGIN:STANDARD
TZNAME:MST
DTSTART:20171105T020000
TZOFFSETFROM:-0600
TZOFFSETTO:-0700
RDATE:20181104T020000
END:STANDARD
BEGIN:DAYLIGHT
TZNAME:MDT
DTSTART:20170312T020000
TZOFFSETFROM:-0700
TZOFFSETTO:-0600
RDATE:20180311T020000
RDATE:20190310T020000
END:DAYLIGHT
END:VTIMEZONE
BEGIN:VEVENT
UID:4e7fe192-fb4a-4ee0-bfa0-4a623a04d998
DTSTAMP:20260425T171438Z
DESCRIPTION:
DTSTART;TZID=America/Denver:20180201T090000
DTEND;TZID=America/Denver:20180201T140000
LOCATION:Neighborhood Center
SUMMARY:AARP 2017 Income Tax Prep
END:VEVENT
END:VCALENDAR
