BEGIN:VCALENDAR
VERSION:2.0
PRODID:-//www.rmdc.net//NONSGML kigkonsult.se iCalcreator 2.30.10//
CALSCALE:GREGORIAN
METHOD:PUBLISH
UID:46c23d39-e114-49f4-b1fe-3712d27263c3
X-WR-CALDESC:
X-WR-RELCALID:21bd53795c26e0723851820b72f41e69
X-WR-TIMEZONE:America/Denver
BEGIN:VTIMEZONE
TZID:America/Denver
BEGIN:STANDARD
TZNAME:MST
DTSTART:20171105T020000
TZOFFSETFROM:-0600
TZOFFSETTO:-0700
RDATE:20181104T020000
END:STANDARD
BEGIN:DAYLIGHT
TZNAME:MDT
DTSTART:20170312T020000
TZOFFSETFROM:-0700
TZOFFSETTO:-0600
RDATE:20180311T020000
RDATE:20190310T020000
END:DAYLIGHT
END:VTIMEZONE
BEGIN:VEVENT
UID:ad8b40ae-2787-4de1-a121-c415ed548b6b
DTSTAMP:20260425T170617Z
DESCRIPTION:
DTSTART;TZID=America/Denver:20180205T100000
DTEND;TZID=America/Denver:20180205T110000
LOCATION:Neighborhood Center Card Room
SUMMARY:Self-Directed Exercise Class
END:VEVENT
END:VCALENDAR
