BEGIN:VCALENDAR
VERSION:2.0
PRODID:-//www.rmdc.net//NONSGML kigkonsult.se iCalcreator 2.30.10//
CALSCALE:GREGORIAN
METHOD:PUBLISH
UID:2c03d873-e296-48af-ac4c-d7778db6ce27
X-WR-CALDESC:
X-WR-RELCALID:c826536a86774d9c5999b6358305ced5
X-WR-TIMEZONE:America/Denver
BEGIN:VTIMEZONE
TZID:America/Denver
BEGIN:STANDARD
TZNAME:MST
DTSTART:20171105T020000
TZOFFSETFROM:-0600
TZOFFSETTO:-0700
RDATE:20181104T020000
END:STANDARD
BEGIN:DAYLIGHT
TZNAME:MDT
DTSTART:20170312T020000
TZOFFSETFROM:-0700
TZOFFSETTO:-0600
RDATE:20180311T020000
RDATE:20190310T020000
END:DAYLIGHT
END:VTIMEZONE
BEGIN:VEVENT
UID:46ae6bcf-d81c-447c-924e-6cd6dc443187
DTSTAMP:20260425T171149Z
DESCRIPTION:
DTSTART;TZID=America/Denver:20180206T090000
DTEND;TZID=America/Denver:20180206T100000
LOCATION:Neighborhood Center Card Room
SUMMARY:Crafty Quilters
END:VEVENT
END:VCALENDAR
