BEGIN:VCALENDAR
VERSION:2.0
PRODID:-//www.rmdc.net//NONSGML kigkonsult.se iCalcreator 2.30.10//
CALSCALE:GREGORIAN
METHOD:PUBLISH
UID:d5c147a5-b733-49ee-98c6-b9352e774948
X-WR-CALDESC:
X-WR-RELCALID:de6cb68d5cf3527882526a87fbe2068b
X-WR-TIMEZONE:America/Denver
BEGIN:VTIMEZONE
TZID:America/Denver
BEGIN:STANDARD
TZNAME:MST
DTSTART:20171105T020000
TZOFFSETFROM:-0600
TZOFFSETTO:-0700
RDATE:20181104T020000
END:STANDARD
BEGIN:DAYLIGHT
TZNAME:MDT
DTSTART:20170312T020000
TZOFFSETFROM:-0700
TZOFFSETTO:-0600
RDATE:20180311T020000
RDATE:20190310T020000
END:DAYLIGHT
END:VTIMEZONE
BEGIN:VEVENT
UID:5a817504-5ea2-4bb2-90ff-3691f7c34927
DTSTAMP:20260425T170850Z
DESCRIPTION:
DTSTART;TZID=America/Denver:20180208T090000
DTEND;TZID=America/Denver:20180208T103000
LOCATION:Neighborhood Center
SUMMARY:Coffee & Rolls
END:VEVENT
END:VCALENDAR
