BEGIN:VCALENDAR
VERSION:2.0
PRODID:-//www.rmdc.net//NONSGML kigkonsult.se iCalcreator 2.30.10//
CALSCALE:GREGORIAN
METHOD:PUBLISH
UID:25a072af-1113-4fdd-af96-ecc440dabf1e
X-WR-CALDESC:
X-WR-RELCALID:515d9b0f3f124b3e494abcde0adb6823
X-WR-TIMEZONE:America/Denver
BEGIN:VTIMEZONE
TZID:America/Denver
BEGIN:STANDARD
TZNAME:MST
DTSTART:20171105T020000
TZOFFSETFROM:-0600
TZOFFSETTO:-0700
RDATE:20181104T020000
END:STANDARD
BEGIN:DAYLIGHT
TZNAME:MDT
DTSTART:20170312T020000
TZOFFSETFROM:-0700
TZOFFSETTO:-0600
RDATE:20180311T020000
RDATE:20190310T020000
END:DAYLIGHT
END:VTIMEZONE
BEGIN:VEVENT
UID:7123cbff-c3bb-4988-8370-4b1b4e2a9bda
DTSTAMP:20260425T170912Z
DESCRIPTION:
DTSTART;TZID=America/Denver:20180213T094500
DTEND;TZID=America/Denver:20180213T104500
LOCATION:Neighborhood Center Dance Floor
SUMMARY:Line Dancing
END:VEVENT
END:VCALENDAR
