BEGIN:VCALENDAR
VERSION:2.0
PRODID:-//www.rmdc.net//NONSGML kigkonsult.se iCalcreator 2.30.10//
CALSCALE:GREGORIAN
METHOD:PUBLISH
UID:41502d67-31d3-4228-999e-0e08046e9d45
X-WR-CALDESC:
X-WR-RELCALID:c11c8f71dde1a85c23f8a11c2c0948ef
X-WR-TIMEZONE:America/Denver
BEGIN:VTIMEZONE
TZID:America/Denver
BEGIN:STANDARD
TZNAME:MST
DTSTART:20171105T020000
TZOFFSETFROM:-0600
TZOFFSETTO:-0700
RDATE:20181104T020000
END:STANDARD
BEGIN:DAYLIGHT
TZNAME:MDT
DTSTART:20170312T020000
TZOFFSETFROM:-0700
TZOFFSETTO:-0600
RDATE:20180311T020000
RDATE:20190310T020000
END:DAYLIGHT
END:VTIMEZONE
BEGIN:VEVENT
UID:f337cc86-848d-43f8-983b-74b31fc574f5
DTSTAMP:20260425T171418Z
DESCRIPTION:
DTSTART;TZID=America/Denver:20180220T130000
DTEND;TZID=America/Denver:20180220T150000
LOCATION:Neighborhood Center Card Room & Dance Floor
SUMMARY:Cards: Pinochle & Bridge
END:VEVENT
END:VCALENDAR
