BEGIN:VCALENDAR
VERSION:2.0
PRODID:-//www.rmdc.net//NONSGML kigkonsult.se iCalcreator 2.30.10//
CALSCALE:GREGORIAN
METHOD:PUBLISH
UID:a5f12402-8959-440c-9b45-bdbe502b2790
X-WR-CALDESC:
X-WR-RELCALID:83f5061f0f257e68edfc08a73550d114
X-WR-TIMEZONE:America/Denver
BEGIN:VTIMEZONE
TZID:America/Denver
BEGIN:STANDARD
TZNAME:MST
DTSTART:20171105T020000
TZOFFSETFROM:-0600
TZOFFSETTO:-0700
RDATE:20181104T020000
END:STANDARD
BEGIN:DAYLIGHT
TZNAME:MDT
DTSTART:20170312T020000
TZOFFSETFROM:-0700
TZOFFSETTO:-0600
RDATE:20180311T020000
RDATE:20190310T020000
END:DAYLIGHT
END:VTIMEZONE
BEGIN:VEVENT
UID:f8f853c9-a7f3-4dfc-bd59-56872a3a88d9
DTSTAMP:20260425T170110Z
DESCRIPTION:
DTSTART;TZID=America/Denver:20180223T000000
DTEND;TZID=America/Denver:20180223T235900
LOCATION:
SUMMARY:Extended Classes CLOSED
END:VEVENT
END:VCALENDAR
