BEGIN:VCALENDAR
VERSION:2.0
PRODID:-//www.rmdc.net//NONSGML kigkonsult.se iCalcreator 2.30.10//
CALSCALE:GREGORIAN
METHOD:PUBLISH
UID:4fc0d3e8-b993-4224-b096-62eec6febdb1
X-WR-CALDESC:
X-WR-RELCALID:1c34694281cc48ac5451e4f285e14e71
X-WR-TIMEZONE:America/Denver
BEGIN:VTIMEZONE
TZID:America/Denver
BEGIN:STANDARD
TZNAME:MST
DTSTART:20171105T020000
TZOFFSETFROM:-0600
TZOFFSETTO:-0700
RDATE:20181104T020000
END:STANDARD
BEGIN:DAYLIGHT
TZNAME:MDT
DTSTART:20170312T020000
TZOFFSETFROM:-0700
TZOFFSETTO:-0600
RDATE:20180311T020000
RDATE:20190310T020000
END:DAYLIGHT
END:VTIMEZONE
BEGIN:VEVENT
UID:6fff27fd-1f94-4080-a405-550ce796ab32
DTSTAMP:20260425T155112Z
DESCRIPTION:
DTSTART;TZID=America/Denver:20180308T090000
DTEND;TZID=America/Denver:20180308T140000
LOCATION:Neighborhood Center
SUMMARY:AARP 2017 Income Tax Prep
END:VEVENT
END:VCALENDAR
