BEGIN:VCALENDAR
VERSION:2.0
PRODID:-//www.rmdc.net//NONSGML kigkonsult.se iCalcreator 2.30.10//
CALSCALE:GREGORIAN
METHOD:PUBLISH
UID:d6c7fc96-dc64-46ef-b5e4-67b90c9f077a
X-WR-CALDESC:
X-WR-RELCALID:1b98c3ada7e6d7e76db780251fdc59a5
X-WR-TIMEZONE:America/Denver
BEGIN:VTIMEZONE
TZID:America/Denver
BEGIN:STANDARD
TZNAME:MST
DTSTART:20171105T020000
TZOFFSETFROM:-0600
TZOFFSETTO:-0700
RDATE:20181104T020000
END:STANDARD
BEGIN:DAYLIGHT
TZNAME:MDT
DTSTART:20180311T020000
TZOFFSETFROM:-0700
TZOFFSETTO:-0600
RDATE:20190310T020000
END:DAYLIGHT
END:VTIMEZONE
BEGIN:VEVENT
UID:d8e32b01-8200-4a1f-be67-3f71a6524b81
DTSTAMP:20260425T154811Z
DESCRIPTION:
DTSTART;TZID=America/Denver:20180313T130000
DTEND;TZID=America/Denver:20180313T150000
LOCATION:Neighborhood Center Card Room & Dance Floor
SUMMARY:Cards: Pinochle & Bridge
END:VEVENT
END:VCALENDAR
