BEGIN:VCALENDAR
VERSION:2.0
PRODID:-//www.rmdc.net//NONSGML kigkonsult.se iCalcreator 2.30.10//
CALSCALE:GREGORIAN
METHOD:PUBLISH
UID:77118e23-1d1b-44c1-b0a2-a9d4724c8f99
X-WR-CALDESC:
X-WR-RELCALID:66c907a6aac152b65417a47a4be94593
X-WR-TIMEZONE:America/Denver
BEGIN:VTIMEZONE
TZID:America/Denver
BEGIN:STANDARD
TZNAME:MST
DTSTART:20171105T020000
TZOFFSETFROM:-0600
TZOFFSETTO:-0700
RDATE:20181104T020000
END:STANDARD
BEGIN:DAYLIGHT
TZNAME:MDT
DTSTART:20180311T020000
TZOFFSETFROM:-0700
TZOFFSETTO:-0600
RDATE:20190310T020000
END:DAYLIGHT
END:VTIMEZONE
BEGIN:VEVENT
UID:1a340e31-466a-4631-9096-94c844ec3a98
DTSTAMP:20260425T155042Z
DESCRIPTION:
DTSTART;TZID=America/Denver:20180315T090000
DTEND;TZID=America/Denver:20180315T140000
LOCATION:Neighborhood Center
SUMMARY:AARP 2017 Income Tax Prep
END:VEVENT
END:VCALENDAR
