BEGIN:VCALENDAR
VERSION:2.0
PRODID:-//www.rmdc.net//NONSGML kigkonsult.se iCalcreator 2.30.10//
CALSCALE:GREGORIAN
METHOD:PUBLISH
UID:a5baef00-3213-4917-a287-151f2884a2b3
X-WR-CALDESC:
X-WR-RELCALID:ade2c11a614a21c768fcfff7097cb8ea
X-WR-TIMEZONE:America/Denver
BEGIN:VTIMEZONE
TZID:America/Denver
BEGIN:STANDARD
TZNAME:MST
DTSTART:20171105T020000
TZOFFSETFROM:-0600
TZOFFSETTO:-0700
RDATE:20181104T020000
END:STANDARD
BEGIN:DAYLIGHT
TZNAME:MDT
DTSTART:20180311T020000
TZOFFSETFROM:-0700
TZOFFSETTO:-0600
RDATE:20190310T020000
END:DAYLIGHT
END:VTIMEZONE
BEGIN:VEVENT
UID:2d1cc816-0622-410d-9a6c-efbe38976405
DTSTAMP:20260425T154903Z
DESCRIPTION:
DTSTART;TZID=America/Denver:20180322T090000
DTEND;TZID=America/Denver:20180322T140000
LOCATION:Neighborhood Center
SUMMARY:AARP 2017 Income Tax Prep
END:VEVENT
END:VCALENDAR
