BEGIN:VCALENDAR
VERSION:2.0
PRODID:-//www.rmdc.net//NONSGML kigkonsult.se iCalcreator 2.30.10//
CALSCALE:GREGORIAN
METHOD:PUBLISH
UID:76793cce-a41c-4e0e-aad8-b6e32518eee0
X-WR-CALDESC:
X-WR-RELCALID:a80407ae4c883c696f67eb3a9dd0dfef
X-WR-TIMEZONE:America/Denver
BEGIN:VTIMEZONE
TZID:America/Denver
BEGIN:STANDARD
TZNAME:MST
DTSTART:20171105T020000
TZOFFSETFROM:-0600
TZOFFSETTO:-0700
RDATE:20181104T020000
END:STANDARD
BEGIN:DAYLIGHT
TZNAME:MDT
DTSTART:20180311T020000
TZOFFSETFROM:-0700
TZOFFSETTO:-0600
RDATE:20190310T020000
END:DAYLIGHT
END:VTIMEZONE
BEGIN:VEVENT
UID:ae72594c-082b-4ce5-b417-534fbdec5c72
DTSTAMP:20260425T152811Z
DESCRIPTION:
DTSTART;TZID=America/Denver:20180330T104500
DTEND;TZID=America/Denver:20180330T114500
LOCATION:Neighborhood Center Card Room
SUMMARY:Tai Chi exercise Class
END:VEVENT
END:VCALENDAR
