BEGIN:VCALENDAR
VERSION:2.0
PRODID:-//www.rmdc.net//NONSGML kigkonsult.se iCalcreator 2.30.10//
CALSCALE:GREGORIAN
METHOD:PUBLISH
UID:5d6611a3-5c58-4ac6-bdf5-f2f354600f6b
X-WR-CALDESC:
X-WR-RELCALID:a0ed8c75aa7ddbc7c4cb84e698dd4843
X-WR-TIMEZONE:America/Denver
BEGIN:VTIMEZONE
TZID:America/Denver
BEGIN:STANDARD
TZNAME:MST
DTSTART:20171105T020000
TZOFFSETFROM:-0600
TZOFFSETTO:-0700
RDATE:20181104T020000
END:STANDARD
BEGIN:DAYLIGHT
TZNAME:MDT
DTSTART:20180311T020000
TZOFFSETFROM:-0700
TZOFFSETTO:-0600
RDATE:20190310T020000
END:DAYLIGHT
END:VTIMEZONE
BEGIN:VEVENT
UID:1f3405ca-ee22-4f68-9848-b4a8f2476b54
DTSTAMP:20260425T141451Z
DESCRIPTION:
DTSTART;TZID=America/Denver:20180403T130000
DTEND;TZID=America/Denver:20180403T150000
LOCATION:Neighborhood Center Card Room & Dance Floor
SUMMARY:Cards: Pinochle & Bridge
END:VEVENT
END:VCALENDAR
