BEGIN:VCALENDAR
VERSION:2.0
PRODID:-//www.rmdc.net//NONSGML kigkonsult.se iCalcreator 2.30.10//
CALSCALE:GREGORIAN
METHOD:PUBLISH
UID:4fd5d657-c42f-4338-a58d-2278dc95534a
X-WR-CALDESC:
X-WR-RELCALID:086708dff8480049c0337659b37d76c4
X-WR-TIMEZONE:America/Denver
BEGIN:VTIMEZONE
TZID:America/Denver
BEGIN:STANDARD
TZNAME:MST
DTSTART:20171105T020000
TZOFFSETFROM:-0600
TZOFFSETTO:-0700
RDATE:20181104T020000
END:STANDARD
BEGIN:DAYLIGHT
TZNAME:MDT
DTSTART:20180311T020000
TZOFFSETFROM:-0700
TZOFFSETTO:-0600
RDATE:20190310T020000
END:DAYLIGHT
END:VTIMEZONE
BEGIN:VEVENT
UID:a10c07a9-f4f7-46fd-a9d4-6a32bb9e5d2e
DTSTAMP:20260425T140500Z
DESCRIPTION:
DTSTART;TZID=America/Denver:20180405T090000
DTEND;TZID=America/Denver:20180405T103000
LOCATION:Neighborhood Center
SUMMARY:Coffee & Rolls
END:VEVENT
END:VCALENDAR
