BEGIN:VCALENDAR
VERSION:2.0
PRODID:-//www.rmdc.net//NONSGML kigkonsult.se iCalcreator 2.30.10//
CALSCALE:GREGORIAN
METHOD:PUBLISH
UID:ea5a9785-85a0-44ce-b236-e49ebf851324
X-WR-CALDESC:
X-WR-RELCALID:93ae6b497b233485d7c2bac9596ed873
X-WR-TIMEZONE:America/Denver
BEGIN:VTIMEZONE
TZID:America/Denver
BEGIN:STANDARD
TZNAME:MST
DTSTART:20171105T020000
TZOFFSETFROM:-0600
TZOFFSETTO:-0700
RDATE:20181104T020000
END:STANDARD
BEGIN:DAYLIGHT
TZNAME:MDT
DTSTART:20180311T020000
TZOFFSETFROM:-0700
TZOFFSETTO:-0600
RDATE:20190310T020000
END:DAYLIGHT
END:VTIMEZONE
BEGIN:VEVENT
UID:6ba1b77e-c5b9-4d94-9740-9673bd192bc5
DTSTAMP:20260425T141451Z
DESCRIPTION:
DTSTART;TZID=America/Denver:20180410T130000
DTEND;TZID=America/Denver:20180410T150000
LOCATION:Neighborhood Center Card Room & Dance Floor
SUMMARY:Cards: Pinochle & Bridge
END:VEVENT
END:VCALENDAR
