BEGIN:VCALENDAR
VERSION:2.0
PRODID:-//www.rmdc.net//NONSGML kigkonsult.se iCalcreator 2.30.10//
CALSCALE:GREGORIAN
METHOD:PUBLISH
UID:24d52bd5-aaf1-4d68-a51b-efb8717f44d4
X-WR-CALDESC:
X-WR-RELCALID:8b1c47bcfd1c8085e00691701be19bc5
X-WR-TIMEZONE:America/Denver
BEGIN:VTIMEZONE
TZID:America/Denver
BEGIN:STANDARD
TZNAME:MST
DTSTART:20171105T020000
TZOFFSETFROM:-0600
TZOFFSETTO:-0700
RDATE:20181104T020000
END:STANDARD
BEGIN:DAYLIGHT
TZNAME:MDT
DTSTART:20180311T020000
TZOFFSETFROM:-0700
TZOFFSETTO:-0600
RDATE:20190310T020000
END:DAYLIGHT
END:VTIMEZONE
BEGIN:VEVENT
UID:123feb4b-39f1-4f57-be75-6647ce0cfe80
DTSTAMP:20260425T140413Z
DESCRIPTION:
DTSTART;TZID=America/Denver:20180411T100000
DTEND;TZID=America/Denver:20180411T110000
LOCATION:Neighborhood Center Card Room
SUMMARY:Self Directed Exercise Class
END:VEVENT
END:VCALENDAR
