BEGIN:VCALENDAR
VERSION:2.0
PRODID:-//www.rmdc.net//NONSGML kigkonsult.se iCalcreator 2.30.10//
CALSCALE:GREGORIAN
METHOD:PUBLISH
UID:d80d5e83-e107-4523-a0b8-8f2e08c105c2
X-WR-CALDESC:
X-WR-RELCALID:06417890419508f13df50d5a6654a0a3
X-WR-TIMEZONE:America/Denver
BEGIN:VTIMEZONE
TZID:America/Denver
BEGIN:STANDARD
TZNAME:MST
DTSTART:20171105T020000
TZOFFSETFROM:-0600
TZOFFSETTO:-0700
RDATE:20181104T020000
END:STANDARD
BEGIN:DAYLIGHT
TZNAME:MDT
DTSTART:20180311T020000
TZOFFSETFROM:-0700
TZOFFSETTO:-0600
RDATE:20190310T020000
END:DAYLIGHT
END:VTIMEZONE
BEGIN:VEVENT
UID:aa0c3ae3-0368-45dd-b968-ed5d959dedec
DTSTAMP:20260425T141546Z
DESCRIPTION:
DTSTART;TZID=America/Denver:20180412T090000
DTEND;TZID=America/Denver:20180412T140000
LOCATION:Neighborhood Center
SUMMARY:AARP 2017 Income Tax Prep
END:VEVENT
END:VCALENDAR
