BEGIN:VCALENDAR
VERSION:2.0
PRODID:-//www.rmdc.net//NONSGML kigkonsult.se iCalcreator 2.30.10//
CALSCALE:GREGORIAN
METHOD:PUBLISH
UID:65fb26cb-5f24-4fb0-9a59-2e9bf16b281d
X-WR-CALDESC:
X-WR-RELCALID:70414521bde8274ad74a46900727da5a
X-WR-TIMEZONE:America/Denver
BEGIN:VTIMEZONE
TZID:America/Denver
BEGIN:STANDARD
TZNAME:MST
DTSTART:20171105T020000
TZOFFSETFROM:-0600
TZOFFSETTO:-0700
RDATE:20181104T020000
END:STANDARD
BEGIN:DAYLIGHT
TZNAME:MDT
DTSTART:20180311T020000
TZOFFSETFROM:-0700
TZOFFSETTO:-0600
RDATE:20190310T020000
END:DAYLIGHT
END:VTIMEZONE
BEGIN:VEVENT
UID:db27c916-fc9e-49b9-94b0-8f14db0397b8
DTSTAMP:20260425T135451Z
DESCRIPTION:
DTSTART;TZID=America/Denver:20180413T000000
DTEND;TZID=America/Denver:20180413T235900
LOCATION:
SUMMARY:Extended Classes CLOSED
END:VEVENT
END:VCALENDAR
