BEGIN:VCALENDAR
VERSION:2.0
PRODID:-//www.rmdc.net//NONSGML kigkonsult.se iCalcreator 2.30.10//
CALSCALE:GREGORIAN
METHOD:PUBLISH
UID:eacb2f1e-2947-4a30-9390-2f2445a4d7fb
X-WR-CALDESC:
X-WR-RELCALID:7354e0ebfdd893556b5a9451783a16df
X-WR-TIMEZONE:America/Denver
BEGIN:VTIMEZONE
TZID:America/Denver
BEGIN:STANDARD
TZNAME:MST
DTSTART:20171105T020000
TZOFFSETFROM:-0600
TZOFFSETTO:-0700
RDATE:20181104T020000
END:STANDARD
BEGIN:DAYLIGHT
TZNAME:MDT
DTSTART:20180311T020000
TZOFFSETFROM:-0700
TZOFFSETTO:-0600
RDATE:20190310T020000
END:DAYLIGHT
END:VTIMEZONE
BEGIN:VEVENT
UID:bf8e371a-5500-4b00-82de-e3ce154f3d50
DTSTAMP:20260425T140557Z
DESCRIPTION:
DTSTART;TZID=America/Denver:20180416T123000
DTEND;TZID=America/Denver:20180416T133000
LOCATION:Neighborhood Center Card Room
SUMMARY:Whist
END:VEVENT
END:VCALENDAR
