BEGIN:VCALENDAR
VERSION:2.0
PRODID:-//www.rmdc.net//NONSGML kigkonsult.se iCalcreator 2.30.10//
CALSCALE:GREGORIAN
METHOD:PUBLISH
UID:76446f16-6439-452e-a283-86abcfc1f487
X-WR-CALDESC:
X-WR-RELCALID:76bda2a9a03a93fe7f2c9eff4b8140c4
X-WR-TIMEZONE:America/Denver
BEGIN:VTIMEZONE
TZID:America/Denver
BEGIN:STANDARD
TZNAME:MST
DTSTART:20171105T020000
TZOFFSETFROM:-0600
TZOFFSETTO:-0700
RDATE:20181104T020000
END:STANDARD
BEGIN:DAYLIGHT
TZNAME:MDT
DTSTART:20180311T020000
TZOFFSETFROM:-0700
TZOFFSETTO:-0600
RDATE:20190310T020000
END:DAYLIGHT
END:VTIMEZONE
BEGIN:VEVENT
UID:407971e6-573f-4d17-9430-ca01a8637778
DTSTAMP:20260425T135623Z
DESCRIPTION:
DTSTART;TZID=America/Denver:20180420T000000
DTEND;TZID=America/Denver:20180420T235900
LOCATION:
SUMMARY:Extended Classes CLOSED
END:VEVENT
END:VCALENDAR
