BEGIN:VCALENDAR
VERSION:2.0
PRODID:-//www.rmdc.net//NONSGML kigkonsult.se iCalcreator 2.30.10//
CALSCALE:GREGORIAN
METHOD:PUBLISH
UID:c997d1be-8e37-4865-b48d-739fcadef652
X-WR-CALDESC:Need help understanding the Medicare maze? We have a solution 
 for people with Medicare questions. This session explores the A\, B\, C\, 
 and Ds of Medicare led by trained SHIP Counselors who will help you find y
 our way! Free and open to all.
X-WR-RELCALID:67530f074640bdb831751ca65bf80d27
X-WR-TIMEZONE:America/Denver
BEGIN:VTIMEZONE
TZID:America/Denver
BEGIN:STANDARD
TZNAME:MST
DTSTART:20171105T020000
TZOFFSETFROM:-0600
TZOFFSETTO:-0700
RDATE:20181104T020000
END:STANDARD
BEGIN:DAYLIGHT
TZNAME:MDT
DTSTART:20180311T020000
TZOFFSETFROM:-0700
TZOFFSETTO:-0600
RDATE:20190310T020000
END:DAYLIGHT
END:VTIMEZONE
BEGIN:VEVENT
UID:a47b5abc-38bd-4f2f-a177-638b655c9026
DTSTAMP:20260425T141043Z
DESCRIPTION:Need help understanding the Medicare maze? We have a solution f
 or people with Medicare questions. This session explores the A\, B\, C\, a
 nd Ds of Medicare led by trained SHIP Counselors who will help you find yo
 ur way! Free and open to all.
DTSTART;TZID=America/Denver:20180425T120000
DTEND;TZID=America/Denver:20180425T130000
LOCATION:Boadwater Health Center
SUMMARY:Medicare 101 - Townsend\, MT
END:VEVENT
END:VCALENDAR
