BEGIN:VCALENDAR
VERSION:2.0
PRODID:-//www.rmdc.net//NONSGML kigkonsult.se iCalcreator 2.30.10//
CALSCALE:GREGORIAN
METHOD:PUBLISH
UID:43b40365-4973-4df8-bbd0-d7a349b69b24
X-WR-CALDESC:
X-WR-RELCALID:4db5d192f337cf76918f15bfdf3d2870
X-WR-TIMEZONE:America/Denver
BEGIN:VTIMEZONE
TZID:America/Denver
BEGIN:STANDARD
TZNAME:MST
DTSTART:20171105T020000
TZOFFSETFROM:-0600
TZOFFSETTO:-0700
RDATE:20181104T020000
END:STANDARD
BEGIN:DAYLIGHT
TZNAME:MDT
DTSTART:20180311T020000
TZOFFSETFROM:-0700
TZOFFSETTO:-0600
RDATE:20190310T020000
END:DAYLIGHT
END:VTIMEZONE
BEGIN:VEVENT
UID:63ad52c6-bf87-4945-9875-e23856965cb0
DTSTAMP:20260425T141303Z
DESCRIPTION:
DTSTART;TZID=America/Denver:20180426T143000
DTEND;TZID=America/Denver:20180426T150000
LOCATION:
SUMMARY:April Finance Committee Meeting
END:VEVENT
END:VCALENDAR
