BEGIN:VCALENDAR
VERSION:2.0
PRODID:-//www.rmdc.net//NONSGML kigkonsult.se iCalcreator 2.30.10//
CALSCALE:GREGORIAN
METHOD:PUBLISH
UID:b912ed96-5040-46cc-b343-5b5af6cab320
X-WR-CALDESC:
X-WR-RELCALID:8e01828d9ea8d8788e5570700094e0b5
X-WR-TIMEZONE:America/Denver
BEGIN:VTIMEZONE
TZID:America/Denver
BEGIN:STANDARD
TZNAME:MST
DTSTART:20171105T020000
TZOFFSETFROM:-0600
TZOFFSETTO:-0700
RDATE:20181104T020000
END:STANDARD
BEGIN:DAYLIGHT
TZNAME:MDT
DTSTART:20180311T020000
TZOFFSETFROM:-0700
TZOFFSETTO:-0600
RDATE:20190310T020000
END:DAYLIGHT
END:VTIMEZONE
BEGIN:VEVENT
UID:e52608fa-ebe0-471a-ba33-589bd10023ab
DTSTAMP:20260425T141253Z
DESCRIPTION:
DTSTART;TZID=America/Denver:20180429T130000
DTEND;TZID=America/Denver:20180429T140000
LOCATION:Neighborhood Center Card Room
SUMMARY:Pinochle
END:VEVENT
END:VCALENDAR
