BEGIN:VCALENDAR
VERSION:2.0
PRODID:-//www.rmdc.net//NONSGML kigkonsult.se iCalcreator 2.30.10//
CALSCALE:GREGORIAN
METHOD:PUBLISH
UID:8faa6676-0987-4464-bdeb-be72ab5fb0f8
X-WR-CALDESC:
X-WR-RELCALID:83ff33d0e2b01957aac9650f0fd35415
X-WR-TIMEZONE:America/Denver
BEGIN:VTIMEZONE
TZID:America/Denver
BEGIN:STANDARD
TZNAME:MST
DTSTART:20171105T020000
TZOFFSETFROM:-0600
TZOFFSETTO:-0700
RDATE:20181104T020000
RDATE:20191103T020000
END:STANDARD
BEGIN:DAYLIGHT
TZNAME:MDT
DTSTART:20180311T020000
TZOFFSETFROM:-0700
TZOFFSETTO:-0600
RDATE:20190310T020000
END:DAYLIGHT
END:VTIMEZONE
BEGIN:VEVENT
UID:3ead5f50-098c-46c7-b4ee-26855214f131
DTSTAMP:20260425T122731Z
DESCRIPTION:
DTSTART;TZID=America/Denver:20180504T000000
DTEND;TZID=America/Denver:20180504T235900
LOCATION:
SUMMARY:Extended Classes are CLOSED
END:VEVENT
END:VCALENDAR
