BEGIN:VCALENDAR
VERSION:2.0
PRODID:-//www.rmdc.net//NONSGML kigkonsult.se iCalcreator 2.30.10//
CALSCALE:GREGORIAN
METHOD:PUBLISH
UID:5efe9dc9-a09b-4ba9-b67a-d160785b0b3a
X-WR-CALDESC:
X-WR-RELCALID:2a1a6f07a6fbc0a3c03985f9e06384c1
X-WR-TIMEZONE:America/Denver
BEGIN:VTIMEZONE
TZID:America/Denver
BEGIN:STANDARD
TZNAME:MST
DTSTART:20171105T020000
TZOFFSETFROM:-0600
TZOFFSETTO:-0700
RDATE:20181104T020000
RDATE:20191103T020000
END:STANDARD
BEGIN:DAYLIGHT
TZNAME:MDT
DTSTART:20180311T020000
TZOFFSETFROM:-0700
TZOFFSETTO:-0600
RDATE:20190310T020000
END:DAYLIGHT
END:VTIMEZONE
BEGIN:VEVENT
UID:5de40f9a-2242-4be0-ba25-d77d99f03575
DTSTAMP:20260425T123245Z
DESCRIPTION:
DTSTART;TZID=America/Denver:20180528T000000
DTEND;TZID=America/Denver:20180528T235900
LOCATION:
SUMMARY:Memorial Day - All Rocky Offices Closed
END:VEVENT
END:VCALENDAR
