BEGIN:VCALENDAR
VERSION:2.0
PRODID:-//www.rmdc.net//NONSGML kigkonsult.se iCalcreator 2.30.10//
CALSCALE:GREGORIAN
METHOD:PUBLISH
UID:01282be9-f310-4a0d-9a02-287faf5609f1
X-WR-CALDESC:
X-WR-RELCALID:db47a74c001e38dbe3473122e2d3e542
X-WR-TIMEZONE:America/Denver
BEGIN:VTIMEZONE
TZID:America/Denver
BEGIN:STANDARD
TZNAME:MST
DTSTART:20171105T020000
TZOFFSETFROM:-0600
TZOFFSETTO:-0700
RDATE:20181104T020000
RDATE:20191103T020000
END:STANDARD
BEGIN:DAYLIGHT
TZNAME:MDT
DTSTART:20180311T020000
TZOFFSETFROM:-0700
TZOFFSETTO:-0600
RDATE:20190310T020000
END:DAYLIGHT
END:VTIMEZONE
BEGIN:VEVENT
UID:0b3bbb31-9c56-46f3-8580-c53ac455519f
DTSTAMP:20260425T111029Z
DESCRIPTION:
DTSTART;TZID=America/Denver:20180604T093000
DTEND;TZID=America/Denver:20180604T103000
LOCATION:Neighborhood Center Card Room
SUMMARY:Jeanie's Arthritis Foundation Exercise Class
END:VEVENT
END:VCALENDAR
