BEGIN:VCALENDAR
VERSION:2.0
PRODID:-//www.rmdc.net//NONSGML kigkonsult.se iCalcreator 2.30.10//
CALSCALE:GREGORIAN
METHOD:PUBLISH
UID:4b78f865-2fff-4ea5-936d-ed6c3761adf9
X-WR-CALDESC:
X-WR-RELCALID:d87370a0239ee5ec2145e57414c02762
X-WR-TIMEZONE:America/Denver
BEGIN:VTIMEZONE
TZID:America/Denver
BEGIN:STANDARD
TZNAME:MST
DTSTART:20171105T020000
TZOFFSETFROM:-0600
TZOFFSETTO:-0700
RDATE:20181104T020000
RDATE:20191103T020000
END:STANDARD
BEGIN:DAYLIGHT
TZNAME:MDT
DTSTART:20180311T020000
TZOFFSETFROM:-0700
TZOFFSETTO:-0600
RDATE:20190310T020000
END:DAYLIGHT
END:VTIMEZONE
BEGIN:VEVENT
UID:463e763a-4b0b-4125-9eb6-981e7a6705fe
DTSTAMP:20260425T110628Z
DESCRIPTION:
DTSTART;TZID=America/Denver:20180604T123000
DTEND;TZID=America/Denver:20180604T133000
LOCATION:Neighborhood Center Card Room
SUMMARY:Whist
END:VEVENT
END:VCALENDAR
