BEGIN:VCALENDAR
VERSION:2.0
PRODID:-//www.rmdc.net//NONSGML kigkonsult.se iCalcreator 2.30.10//
CALSCALE:GREGORIAN
METHOD:PUBLISH
UID:0adf2567-f7d7-4169-8022-4a4d55013fd9
X-WR-CALDESC:
X-WR-RELCALID:9a59d379ba33ab3fd8f6b7c2db09801c
X-WR-TIMEZONE:America/Denver
BEGIN:VTIMEZONE
TZID:America/Denver
BEGIN:STANDARD
TZNAME:MST
DTSTART:20171105T020000
TZOFFSETFROM:-0600
TZOFFSETTO:-0700
RDATE:20181104T020000
RDATE:20191103T020000
END:STANDARD
BEGIN:DAYLIGHT
TZNAME:MDT
DTSTART:20180311T020000
TZOFFSETFROM:-0700
TZOFFSETTO:-0600
RDATE:20190310T020000
END:DAYLIGHT
END:VTIMEZONE
BEGIN:VEVENT
UID:39dba398-1bbf-4f76-bac5-8d305972066a
DTSTAMP:20260425T110958Z
DESCRIPTION:
DTSTART;TZID=America/Denver:20180620T153000
DTEND;TZID=America/Denver:20180620T173000
LOCATION:RMDC Neighborhood Center - Card Room
SUMMARY:RMDC Board of Directors Meeting
END:VEVENT
END:VCALENDAR
