BEGIN:VCALENDAR
VERSION:2.0
PRODID:-//www.rmdc.net//NONSGML kigkonsult.se iCalcreator 2.30.10//
CALSCALE:GREGORIAN
METHOD:PUBLISH
UID:c8411230-e2c2-4b36-a596-e8b6eb99cfbf
X-WR-CALDESC:Call our Area IV Agency on Aging office to speak with a Resour
 ce Specialist about your Prescription Drug Plans and Medicare Advantage Pl
 ans for the following year. This will ensure you're on a plan that best fi
 ts your needs and medications. Call 1-800-551-3191 for more information an
 d to be connected with someone immediately.
X-WR-RELCALID:5c253def5db1fc459c6fc44e193d10b6
X-WR-TIMEZONE:America/Denver
BEGIN:VTIMEZONE
TZID:America/Denver
BEGIN:STANDARD
TZNAME:MST
DTSTART:20171105T020000
TZOFFSETFROM:-0600
TZOFFSETTO:-0700
RDATE:20181104T020000
RDATE:20191103T020000
END:STANDARD
BEGIN:DAYLIGHT
TZNAME:MDT
DTSTART:20180311T020000
TZOFFSETFROM:-0700
TZOFFSETTO:-0600
RDATE:20190310T020000
RDATE:20200308T020000
END:DAYLIGHT
END:VTIMEZONE
BEGIN:VEVENT
UID:e45db19e-8b8c-4224-80c7-3fa50fb457f8
DTSTAMP:20260425T024320Z
DESCRIPTION:Call our Area IV Agency on Aging office to speak with a Resourc
 e Specialist about your Prescription Drug Plans and Medicare Advantage Pla
 ns for the following year. This will ensure you're on a plan that best fit
 s your needs and medications. Call 1-800-551-3191 for more information and
  to be connected with someone immediately.
DTSTART;TZID=America/Denver:20181015T000000
DTEND;TZID=America/Denver:20181207T235900
LOCATION:
SUMMARY:Medicare Open Enrollment
END:VEVENT
END:VCALENDAR
