BEGIN:VCALENDAR
VERSION:2.0
PRODID:-//www.rmdc.net//NONSGML kigkonsult.se iCalcreator 2.30.10//
CALSCALE:GREGORIAN
METHOD:PUBLISH
UID:9863a7f2-e887-4d27-9e13-b6b2660fcd31
X-WR-CALDESC:
X-WR-RELCALID:2d09e05d969cd8587e87d49efe9fdef9
X-WR-TIMEZONE:America/Denver
BEGIN:VTIMEZONE
TZID:America/Denver
BEGIN:STANDARD
TZNAME:MST
DTSTART:20181104T020000
TZOFFSETFROM:-0600
TZOFFSETTO:-0700
RDATE:20191103T020000
END:STANDARD
BEGIN:DAYLIGHT
TZNAME:MDT
DTSTART:20180311T020000
TZOFFSETFROM:-0700
TZOFFSETTO:-0600
RDATE:20190310T020000
RDATE:20200308T020000
END:DAYLIGHT
END:VTIMEZONE
BEGIN:VEVENT
UID:145ca76a-a126-4689-a148-433e8f19cdfc
DTSTAMP:20260425T040711Z
DESCRIPTION:
DTSTART;TZID=America/Denver:20181112T000000
DTEND;TZID=America/Denver:20181112T235900
LOCATION:
SUMMARY:RMDC Closed - Veteran's Day
END:VEVENT
END:VCALENDAR
