BEGIN:VCALENDAR
VERSION:2.0
PRODID:-//www.rmdc.net//NONSGML kigkonsult.se iCalcreator 2.30.10//
CALSCALE:GREGORIAN
METHOD:PUBLISH
UID:acce0224-2e16-452d-a780-5434f075d893
X-WR-CALDESC:
X-WR-RELCALID:cd1a0d5bbd454bc8a509fdc1f4a89689
X-WR-TIMEZONE:America/Denver
BEGIN:VTIMEZONE
TZID:America/Denver
BEGIN:STANDARD
TZNAME:MST
DTSTART:20181104T020000
TZOFFSETFROM:-0600
TZOFFSETTO:-0700
RDATE:20191103T020000
END:STANDARD
BEGIN:DAYLIGHT
TZNAME:MDT
DTSTART:20180311T020000
TZOFFSETFROM:-0700
TZOFFSETTO:-0600
RDATE:20190310T020000
RDATE:20200308T020000
END:DAYLIGHT
END:VTIMEZONE
BEGIN:VEVENT
UID:c387cdd8-6db0-49f2-a7c6-70b0eb16cdce
DTSTAMP:20260425T040719Z
DESCRIPTION:
DTSTART;TZID=America/Denver:20181114T104500
DTEND;TZID=America/Denver:20181114T114500
LOCATION:Neighborhood Center Card Room
SUMMARY:Tai Chi Exercise Class
END:VEVENT
END:VCALENDAR
