BEGIN:VCALENDAR
VERSION:2.0
PRODID:-//www.rmdc.net//NONSGML kigkonsult.se iCalcreator 2.30.10//
CALSCALE:GREGORIAN
METHOD:PUBLISH
UID:a1c73310-234f-4410-abe2-1e1e90a786c2
X-WR-CALDESC:
X-WR-RELCALID:40c15f85fc56850a6e1b42318ea45e6b
X-WR-TIMEZONE:America/Denver
BEGIN:VTIMEZONE
TZID:America/Denver
BEGIN:STANDARD
TZNAME:MST
DTSTART:20181104T020000
TZOFFSETFROM:-0600
TZOFFSETTO:-0700
RDATE:20191103T020000
END:STANDARD
BEGIN:DAYLIGHT
TZNAME:MDT
DTSTART:20180311T020000
TZOFFSETFROM:-0700
TZOFFSETTO:-0600
RDATE:20190310T020000
RDATE:20200308T020000
END:DAYLIGHT
END:VTIMEZONE
BEGIN:VEVENT
UID:7fd714ae-dae7-4472-bd2d-cdd0fef04b20
DTSTAMP:20260425T040810Z
DESCRIPTION:
DTSTART;TZID=America/Denver:20181114T000000
DTEND;TZID=America/Denver:20181115T235900
LOCATION:
SUMMARY:Evening Family Conferences - All Classrooms
END:VEVENT
END:VCALENDAR
