BEGIN:VCALENDAR
VERSION:2.0
PRODID:-//www.rmdc.net//NONSGML kigkonsult.se iCalcreator 2.30.10//
CALSCALE:GREGORIAN
METHOD:PUBLISH
UID:b997d217-3e63-4809-a52a-911bb365a9e6
X-WR-CALDESC:
X-WR-RELCALID:ef7381eb3926e6ffd8bde668e5b05ebd
X-WR-TIMEZONE:America/Denver
BEGIN:VTIMEZONE
TZID:America/Denver
BEGIN:STANDARD
TZNAME:MST
DTSTART:20181104T020000
TZOFFSETFROM:-0600
TZOFFSETTO:-0700
RDATE:20191103T020000
END:STANDARD
BEGIN:DAYLIGHT
TZNAME:MDT
DTSTART:20180311T020000
TZOFFSETFROM:-0700
TZOFFSETTO:-0600
RDATE:20190310T020000
RDATE:20200308T020000
END:DAYLIGHT
END:VTIMEZONE
BEGIN:VEVENT
UID:b4c094a6-606f-4ffd-b02b-b947938cb1d7
DTSTAMP:20260425T040430Z
DESCRIPTION:
DTSTART;TZID=America/Denver:20181116T000000
DTEND;TZID=America/Denver:20181116T235900
LOCATION:
SUMMARY:All Classrooms Closed
END:VEVENT
END:VCALENDAR
