BEGIN:VCALENDAR
VERSION:2.0
PRODID:-//www.rmdc.net//NONSGML kigkonsult.se iCalcreator 2.30.10//
CALSCALE:GREGORIAN
METHOD:PUBLISH
UID:88cc0592-e5d6-4876-8e90-b8f37eafb529
X-WR-CALDESC:
X-WR-RELCALID:da21e59d8846fe6244f213dfb4fa840b
X-WR-TIMEZONE:America/Denver
BEGIN:VTIMEZONE
TZID:America/Denver
BEGIN:STANDARD
TZNAME:MST
DTSTART:20181104T020000
TZOFFSETFROM:-0600
TZOFFSETTO:-0700
RDATE:20191103T020000
END:STANDARD
BEGIN:DAYLIGHT
TZNAME:MDT
DTSTART:20180311T020000
TZOFFSETFROM:-0700
TZOFFSETTO:-0600
RDATE:20190310T020000
RDATE:20200308T020000
END:DAYLIGHT
END:VTIMEZONE
BEGIN:VEVENT
UID:d5cf4915-299b-4a80-91d4-54faf6bc866b
DTSTAMP:20260425T040427Z
DESCRIPTION:
DTSTART;TZID=America/Denver:20181121T130000
DTEND;TZID=America/Denver:20181121T150000
LOCATION:Neighborhood Center
SUMMARY:BINGO
END:VEVENT
END:VCALENDAR
