BEGIN:VCALENDAR
VERSION:2.0
PRODID:-//www.rmdc.net//NONSGML kigkonsult.se iCalcreator 2.30.10//
CALSCALE:GREGORIAN
METHOD:PUBLISH
UID:3fc45f50-e416-49d8-a591-407e20b24929
X-WR-CALDESC:
X-WR-RELCALID:79535f42a1709ed63493b6e54ceafd92
X-WR-TIMEZONE:America/Denver
BEGIN:VTIMEZONE
TZID:America/Denver
BEGIN:STANDARD
TZNAME:MST
DTSTART:20181104T020000
TZOFFSETFROM:-0600
TZOFFSETTO:-0700
RDATE:20191103T020000
END:STANDARD
BEGIN:DAYLIGHT
TZNAME:MDT
DTSTART:20180311T020000
TZOFFSETFROM:-0700
TZOFFSETTO:-0600
RDATE:20190310T020000
RDATE:20200308T020000
END:DAYLIGHT
END:VTIMEZONE
BEGIN:VEVENT
UID:c180e013-8958-4050-a05b-d7053c9e486b
DTSTAMP:20260425T040513Z
DESCRIPTION:
DTSTART;TZID=America/Denver:20181122T000000
DTEND;TZID=America/Denver:20181123T235900
LOCATION:
SUMMARY:RMDC Closed - Thanksgiving Weekend
END:VEVENT
END:VCALENDAR
