BEGIN:VCALENDAR
VERSION:2.0
PRODID:-//www.rmdc.net//NONSGML kigkonsult.se iCalcreator 2.30.10//
CALSCALE:GREGORIAN
METHOD:PUBLISH
UID:d3d1e1bf-9981-4431-95f9-9341d2485a6f
X-WR-CALDESC:
X-WR-RELCALID:6181799ab1b7baff935befce2542d2ab
X-WR-TIMEZONE:America/Denver
BEGIN:VTIMEZONE
TZID:America/Denver
BEGIN:STANDARD
TZNAME:MST
DTSTART:20181104T020000
TZOFFSETFROM:-0600
TZOFFSETTO:-0700
RDATE:20191103T020000
END:STANDARD
BEGIN:DAYLIGHT
TZNAME:MDT
DTSTART:20180311T020000
TZOFFSETFROM:-0700
TZOFFSETTO:-0600
RDATE:20190310T020000
RDATE:20200308T020000
END:DAYLIGHT
END:VTIMEZONE
BEGIN:VEVENT
UID:21f1e124-dcfd-475c-af69-0c6315854bef
DTSTAMP:20260425T040353Z
DESCRIPTION:
DTSTART;TZID=America/Denver:20181130T000000
DTEND;TZID=America/Denver:20181130T235900
LOCATION:
SUMMARY:All Classrooms Closed
END:VEVENT
END:VCALENDAR
