BEGIN:VCALENDAR
VERSION:2.0
PRODID:-//www.rmdc.net//NONSGML kigkonsult.se iCalcreator 2.30.10//
CALSCALE:GREGORIAN
METHOD:PUBLISH
UID:6082fe4f-9edb-4f71-be61-9548146da648
X-WR-CALDESC:
X-WR-RELCALID:e04df5eb0f73e52b5f052d77eb0156cf
X-WR-TIMEZONE:America/Denver
BEGIN:VTIMEZONE
TZID:America/Denver
BEGIN:STANDARD
TZNAME:MST
DTSTART:20181104T020000
TZOFFSETFROM:-0600
TZOFFSETTO:-0700
RDATE:20191103T020000
END:STANDARD
BEGIN:DAYLIGHT
TZNAME:MDT
DTSTART:20180311T020000
TZOFFSETFROM:-0700
TZOFFSETTO:-0600
RDATE:20190310T020000
RDATE:20200308T020000
END:DAYLIGHT
END:VTIMEZONE
BEGIN:VEVENT
UID:4a087cc5-0aaa-4fcb-ae94-a2b5ee4934e4
DTSTAMP:20260425T024201Z
DESCRIPTION:
DTSTART;TZID=America/Denver:20181220T150000
DTEND;TZID=America/Denver:20181220T160000
LOCATION:
SUMMARY:Executive Committee Meeting
END:VEVENT
END:VCALENDAR
