BEGIN:VCALENDAR
VERSION:2.0
PRODID:-//www.rmdc.net//NONSGML kigkonsult.se iCalcreator 2.30.10//
CALSCALE:GREGORIAN
METHOD:PUBLISH
UID:e90662cb-35a0-4996-a4c2-950022d84f94
X-WR-CALDESC:
X-WR-RELCALID:2ec708cf29ecc714d38690e6095477e9
X-WR-TIMEZONE:America/Denver
BEGIN:VTIMEZONE
TZID:America/Denver
BEGIN:STANDARD
TZNAME:MST
DTSTART:20181104T020000
TZOFFSETFROM:-0600
TZOFFSETTO:-0700
RDATE:20191103T020000
END:STANDARD
BEGIN:DAYLIGHT
TZNAME:MDT
DTSTART:20180311T020000
TZOFFSETFROM:-0700
TZOFFSETTO:-0600
RDATE:20190310T020000
RDATE:20200308T020000
END:DAYLIGHT
END:VTIMEZONE
BEGIN:VEVENT
UID:f34706a9-eae3-4cc9-a850-c4167aa5819f
DTSTAMP:20260425T013340Z
DESCRIPTION:
DTSTART;TZID=America/Denver:20190104T103000
DTEND;TZID=America/Denver:20190104T153000
LOCATION:Neighborhood Center - Room 13
SUMMARY:Blood Drive at Rocky
END:VEVENT
END:VCALENDAR
