BEGIN:VCALENDAR
VERSION:2.0
PRODID:-//www.rmdc.net//NONSGML kigkonsult.se iCalcreator 2.30.10//
CALSCALE:GREGORIAN
METHOD:PUBLISH
UID:55007509-0241-4d4a-8392-8cfb5e7c0419
X-WR-CALDESC:
X-WR-RELCALID:207c3d107c48af21500187be74720426
X-WR-TIMEZONE:America/Denver
BEGIN:VTIMEZONE
TZID:America/Denver
BEGIN:STANDARD
TZNAME:MST
DTSTART:20181104T020000
TZOFFSETFROM:-0600
TZOFFSETTO:-0700
RDATE:20191103T020000
END:STANDARD
BEGIN:DAYLIGHT
TZNAME:MDT
DTSTART:20180311T020000
TZOFFSETFROM:-0700
TZOFFSETTO:-0600
RDATE:20190310T020000
RDATE:20200308T020000
END:DAYLIGHT
END:VTIMEZONE
BEGIN:VEVENT
UID:018fd399-fc13-4115-9c7e-1da60bdf08ac
DTSTAMP:20260425T014156Z
DESCRIPTION:
DTSTART;TZID=America/Denver:20190118T123000
DTEND;TZID=America/Denver:20190118T133000
LOCATION:Neighborhood Center Parlor
SUMMARY:Sew & Tell
END:VEVENT
END:VCALENDAR
