BEGIN:VCALENDAR
VERSION:2.0
PRODID:-//www.rmdc.net//NONSGML kigkonsult.se iCalcreator 2.30.10//
CALSCALE:GREGORIAN
METHOD:PUBLISH
UID:9842228a-d2f9-4151-ba30-7542054a5314
X-WR-CALDESC:
X-WR-RELCALID:0ce0a5ee3fd76625958b9e7d11ebe6d9
X-WR-TIMEZONE:America/Denver
BEGIN:VTIMEZONE
TZID:America/Denver
BEGIN:STANDARD
TZNAME:MST
DTSTART:20181104T020000
TZOFFSETFROM:-0600
TZOFFSETTO:-0700
RDATE:20191103T020000
END:STANDARD
BEGIN:DAYLIGHT
TZNAME:MDT
DTSTART:20180311T020000
TZOFFSETFROM:-0700
TZOFFSETTO:-0600
RDATE:20190310T020000
RDATE:20200308T020000
END:DAYLIGHT
END:VTIMEZONE
BEGIN:VEVENT
UID:c6b294ff-17eb-4810-9305-283692261942
DTSTAMP:20260425T001228Z
DESCRIPTION:
DTSTART;TZID=America/Denver:20190201T000000
DTEND;TZID=America/Denver:20190201T235900
LOCATION:
SUMMARY:All Extended Classrooms OPEN
END:VEVENT
END:VCALENDAR
