BEGIN:VCALENDAR
VERSION:2.0
PRODID:-//www.rmdc.net//NONSGML kigkonsult.se iCalcreator 2.30.10//
CALSCALE:GREGORIAN
METHOD:PUBLISH
UID:99f53d50-5118-4780-a254-3e69869fe4bc
X-WR-CALDESC:
X-WR-RELCALID:4b0219939796f539d7c71a8ab494f1c4
X-WR-TIMEZONE:America/Denver
BEGIN:VTIMEZONE
TZID:America/Denver
BEGIN:STANDARD
TZNAME:MST
DTSTART:20181104T020000
TZOFFSETFROM:-0600
TZOFFSETTO:-0700
RDATE:20191103T020000
END:STANDARD
BEGIN:DAYLIGHT
TZNAME:MDT
DTSTART:20180311T020000
TZOFFSETFROM:-0700
TZOFFSETTO:-0600
RDATE:20190310T020000
RDATE:20200308T020000
END:DAYLIGHT
END:VTIMEZONE
BEGIN:VEVENT
UID:3c59f581-b8c9-47f1-bc49-1d38d5697c9c
DTSTAMP:20260425T002351Z
DESCRIPTION:
DTSTART;TZID=America/Denver:20190203T130000
DTEND;TZID=America/Denver:20190203T140000
LOCATION:Neighborhood Center Card Room
SUMMARY:Pinochle
END:VEVENT
END:VCALENDAR
