BEGIN:VCALENDAR
VERSION:2.0
PRODID:-//www.rmdc.net//NONSGML kigkonsult.se iCalcreator 2.30.10//
CALSCALE:GREGORIAN
METHOD:PUBLISH
UID:678e3799-8cbc-49c0-b2b8-2cd723dcfc05
X-WR-CALDESC:
X-WR-RELCALID:fa0b88c402f99f1f0499fcaf9c9d7639
X-WR-TIMEZONE:America/Denver
BEGIN:VTIMEZONE
TZID:America/Denver
BEGIN:STANDARD
TZNAME:MST
DTSTART:20181104T020000
TZOFFSETFROM:-0600
TZOFFSETTO:-0700
RDATE:20191103T020000
END:STANDARD
BEGIN:DAYLIGHT
TZNAME:MDT
DTSTART:20180311T020000
TZOFFSETFROM:-0700
TZOFFSETTO:-0600
RDATE:20190310T020000
RDATE:20200308T020000
END:DAYLIGHT
END:VTIMEZONE
BEGIN:VEVENT
UID:3009968a-e179-4ad3-bb5e-7912951fafb7
DTSTAMP:20260425T001227Z
DESCRIPTION:
DTSTART;TZID=America/Denver:20190208T000000
DTEND;TZID=America/Denver:20190208T235900
LOCATION:
SUMMARY:All Classrooms Closed
END:VEVENT
END:VCALENDAR
