BEGIN:VCALENDAR
VERSION:2.0
PRODID:-//www.rmdc.net//NONSGML kigkonsult.se iCalcreator 2.30.10//
CALSCALE:GREGORIAN
METHOD:PUBLISH
UID:ab4fe067-549c-4521-b083-669c92d5ffde
X-WR-CALDESC:
X-WR-RELCALID:f640081229f0f894ca10a998b6eedb94
X-WR-TIMEZONE:America/Denver
BEGIN:VTIMEZONE
TZID:America/Denver
BEGIN:STANDARD
TZNAME:MST
DTSTART:20181104T020000
TZOFFSETFROM:-0600
TZOFFSETTO:-0700
RDATE:20191103T020000
END:STANDARD
BEGIN:DAYLIGHT
TZNAME:MDT
DTSTART:20180311T020000
TZOFFSETFROM:-0700
TZOFFSETTO:-0600
RDATE:20190310T020000
RDATE:20200308T020000
END:DAYLIGHT
END:VTIMEZONE
BEGIN:VEVENT
UID:e775ad98-44db-4666-b0e0-0b51122a2fa2
DTSTAMP:20260425T003150Z
DESCRIPTION:
DTSTART;TZID=America/Denver:20190213T133000
DTEND;TZID=America/Denver:20190213T150000
LOCATION:
SUMMARY:Head Start Resource/Referral Sharing in Neighborhood Center
END:VEVENT
END:VCALENDAR
