BEGIN:VCALENDAR
VERSION:2.0
PRODID:-//www.rmdc.net//NONSGML kigkonsult.se iCalcreator 2.30.10//
CALSCALE:GREGORIAN
METHOD:PUBLISH
UID:d54f922f-a4d5-4943-8660-1353aa7145f2
X-WR-CALDESC:
X-WR-RELCALID:f9c0d1c239651cacddb65baec6feab5a
X-WR-TIMEZONE:America/Denver
BEGIN:VTIMEZONE
TZID:America/Denver
BEGIN:STANDARD
TZNAME:MST
DTSTART:20181104T020000
TZOFFSETFROM:-0600
TZOFFSETTO:-0700
RDATE:20191103T020000
END:STANDARD
BEGIN:DAYLIGHT
TZNAME:MDT
DTSTART:20180311T020000
TZOFFSETFROM:-0700
TZOFFSETTO:-0600
RDATE:20190310T020000
RDATE:20200308T020000
END:DAYLIGHT
END:VTIMEZONE
BEGIN:VEVENT
UID:8fe770e8-8245-4752-99a1-f589392104f4
DTSTAMP:20260425T001226Z
DESCRIPTION:
DTSTART;TZID=America/Denver:20190222T000000
DTEND;TZID=America/Denver:20190222T235900
LOCATION:
SUMMARY:All Classrooms Closed
END:VEVENT
END:VCALENDAR
