BEGIN:VCALENDAR
VERSION:2.0
PRODID:-//www.rmdc.net//NONSGML kigkonsult.se iCalcreator 2.30.10//
CALSCALE:GREGORIAN
METHOD:PUBLISH
UID:6e14b76b-c38b-4a95-a33a-99ab0cf2f2a4
X-WR-CALDESC:
X-WR-RELCALID:97b4d0e93d878240f352e354f012ed42
X-WR-TIMEZONE:America/Denver
BEGIN:VTIMEZONE
TZID:America/Denver
BEGIN:STANDARD
TZNAME:MST
DTSTART:20181104T020000
TZOFFSETFROM:-0600
TZOFFSETTO:-0700
RDATE:20191103T020000
END:STANDARD
BEGIN:DAYLIGHT
TZNAME:MDT
DTSTART:20180311T020000
TZOFFSETFROM:-0700
TZOFFSETTO:-0600
RDATE:20190310T020000
RDATE:20200308T020000
END:DAYLIGHT
END:VTIMEZONE
BEGIN:VEVENT
UID:9100b0e9-7a30-4f0a-8255-c6e126c31e8e
DTSTAMP:20260424T230914Z
DESCRIPTION:
DTSTART;TZID=America/Denver:20190307T170000
DTEND;TZID=America/Denver:20190307T200000
LOCATION:
SUMMARY:(RIOT) Reading Instead of Television Wrap-Up
END:VEVENT
END:VCALENDAR
