BEGIN:VCALENDAR
VERSION:2.0
PRODID:-//www.rmdc.net//NONSGML kigkonsult.se iCalcreator 2.30.10//
CALSCALE:GREGORIAN
METHOD:PUBLISH
UID:6eba21e7-a400-4a01-b6aa-2269fcb2a1f3
X-WR-CALDESC:
X-WR-RELCALID:d4e2e2fde6db8da5f4044ea3f0e9ff9c
X-WR-TIMEZONE:America/Denver
BEGIN:VTIMEZONE
TZID:America/Denver
BEGIN:STANDARD
TZNAME:MST
DTSTART:20181104T020000
TZOFFSETFROM:-0600
TZOFFSETTO:-0700
RDATE:20191103T020000
END:STANDARD
BEGIN:DAYLIGHT
TZNAME:MDT
DTSTART:20180311T020000
TZOFFSETFROM:-0700
TZOFFSETTO:-0600
RDATE:20190310T020000
RDATE:20200308T020000
END:DAYLIGHT
END:VTIMEZONE
BEGIN:VEVENT
UID:0cc28c46-e196-476c-bbd8-b5d4228aa58e
DTSTAMP:20260424T225732Z
DESCRIPTION:
DTSTART;TZID=America/Denver:20190308T104500
DTEND;TZID=America/Denver:20190308T114500
LOCATION:Neighborhood Center Card Room
SUMMARY:Tai Chi exercise Class
END:VEVENT
END:VCALENDAR
