BEGIN:VCALENDAR
VERSION:2.0
PRODID:-//www.rmdc.net//NONSGML kigkonsult.se iCalcreator 2.30.10//
CALSCALE:GREGORIAN
METHOD:PUBLISH
UID:4f28e187-678c-476e-a75d-e31967caac13
X-WR-CALDESC:
X-WR-RELCALID:99eeff8e857664c6637952c39ddc943a
X-WR-TIMEZONE:America/Denver
BEGIN:VTIMEZONE
TZID:America/Denver
BEGIN:STANDARD
TZNAME:MST
DTSTART:20181104T020000
TZOFFSETFROM:-0600
TZOFFSETTO:-0700
RDATE:20191103T020000
END:STANDARD
BEGIN:DAYLIGHT
TZNAME:MDT
DTSTART:20190310T020000
TZOFFSETFROM:-0700
TZOFFSETTO:-0600
RDATE:20200308T020000
END:DAYLIGHT
END:VTIMEZONE
BEGIN:VEVENT
UID:50ec9b76-426a-45fe-940a-beae0baf92cf
DTSTAMP:20260424T230909Z
DESCRIPTION:
DTSTART;TZID=America/Denver:20190312T130000
DTEND;TZID=America/Denver:20190312T150000
LOCATION:Neighborhood Center Card Room & Dance Floor
SUMMARY:Cards: Pinochle\, Bridge & Cribbage
END:VEVENT
END:VCALENDAR
